BEGIN:VCALENDAR
VERSION:2.0
PRODID:-//Living Word - ECPv6.15.11//NONSGML v1.0//EN
CALSCALE:GREGORIAN
METHOD:PUBLISH
X-WR-CALNAME:Living Word
X-ORIGINAL-URL:https://lw-sda.org
X-WR-CALDESC:Events for Living Word
REFRESH-INTERVAL;VALUE=DURATION:PT1H
X-Robots-Tag:noindex
X-PUBLISHED-TTL:PT1H
BEGIN:VTIMEZONE
TZID:UTC
BEGIN:STANDARD
TZOFFSETFROM:+0000
TZOFFSETTO:+0000
TZNAME:UTC
DTSTART:20240101T000000
END:STANDARD
END:VTIMEZONE
BEGIN:VEVENT
DTSTART;TZID=UTC:20251115T100000
DTEND;TZID=UTC:20251115T110000
DTSTAMP:20260424T191607
CREATED:20250112T044037Z
LAST-MODIFIED:20250112T044037Z
UID:137-1763200800-1763204400@lw-sda.org
SUMMARY:Sabbath School
DESCRIPTION:Join us for Sabbath School at The Living Word! Come explore God’s Word in small group studies\, and connect with a loving community every Saturday morning.
URL:https://lw-sda.org/index.php/event/sabbath-school-45/
CATEGORIES:In-Person
END:VEVENT
BEGIN:VEVENT
DTSTART;TZID=UTC:20251111T190000
DTEND;TZID=UTC:20251111T193000
DTSTAMP:20260424T191607
CREATED:20250112T044431Z
LAST-MODIFIED:20250112T044431Z
UID:290-1762887600-1762889400@lw-sda.org
SUMMARY:Prayer and Study
DESCRIPTION:Weekly profound and participatory Study of Scriptures with Prayer.
URL:https://lw-sda.org/index.php/event/prayer-and-study-40/
CATEGORIES:In-Person
END:VEVENT
BEGIN:VEVENT
DTSTART;TZID=UTC:20251108T111500
DTEND;TZID=UTC:20251108T123000
DTSTAMP:20260424T191607
CREATED:20250112T044241Z
LAST-MODIFIED:20250112T044241Z
UID:187-1762600500-1762605000@lw-sda.org
SUMMARY:Worship Service
DESCRIPTION:“Come\, let us bow down in worship\, let us kneel before the Lord our Maker; for He is our God and we are the people of His pasture\, the flock under His care.”— Psalm 95:6-7 (NIV)
URL:https://lw-sda.org/index.php/event/worship-service-44/
CATEGORIES:In-Person
END:VEVENT
BEGIN:VEVENT
DTSTART;TZID=UTC:20251108T100000
DTEND;TZID=UTC:20251108T110000
DTSTAMP:20260424T191607
CREATED:20250112T044036Z
LAST-MODIFIED:20250112T044036Z
UID:136-1762596000-1762599600@lw-sda.org
SUMMARY:Sabbath School
DESCRIPTION:Join us for Sabbath School at The Living Word! Come explore God’s Word in small group studies\, and connect with a loving community every Saturday morning.
URL:https://lw-sda.org/index.php/event/sabbath-school-44/
CATEGORIES:In-Person
END:VEVENT
BEGIN:VEVENT
DTSTART;TZID=UTC:20251104T190000
DTEND;TZID=UTC:20251104T193000
DTSTAMP:20260424T191607
CREATED:20250112T044431Z
LAST-MODIFIED:20250112T044431Z
UID:289-1762282800-1762284600@lw-sda.org
SUMMARY:Prayer and Study
DESCRIPTION:Weekly profound and participatory Study of Scriptures with Prayer.
URL:https://lw-sda.org/index.php/event/prayer-and-study-39/
CATEGORIES:In-Person
END:VEVENT
BEGIN:VEVENT
DTSTART;TZID=UTC:20251101T111500
DTEND;TZID=UTC:20251101T123000
DTSTAMP:20260424T191607
CREATED:20250112T044241Z
LAST-MODIFIED:20250112T044241Z
UID:186-1761995700-1762000200@lw-sda.org
SUMMARY:Worship Service
DESCRIPTION:“Come\, let us bow down in worship\, let us kneel before the Lord our Maker; for He is our God and we are the people of His pasture\, the flock under His care.”— Psalm 95:6-7 (NIV)
URL:https://lw-sda.org/index.php/event/worship-service-43/
CATEGORIES:In-Person
END:VEVENT
BEGIN:VEVENT
DTSTART;TZID=UTC:20251101T100000
DTEND;TZID=UTC:20251101T110000
DTSTAMP:20260424T191607
CREATED:20250112T044036Z
LAST-MODIFIED:20250112T044036Z
UID:135-1761991200-1761994800@lw-sda.org
SUMMARY:Sabbath School
DESCRIPTION:Join us for Sabbath School at The Living Word! Come explore God’s Word in small group studies\, and connect with a loving community every Saturday morning.
URL:https://lw-sda.org/index.php/event/sabbath-school-43/
CATEGORIES:In-Person
END:VEVENT
BEGIN:VEVENT
DTSTART;TZID=UTC:20251028T190000
DTEND;TZID=UTC:20251028T193000
DTSTAMP:20260424T191607
CREATED:20250112T044425Z
LAST-MODIFIED:20250112T044426Z
UID:283-1761678000-1761679800@lw-sda.org
SUMMARY:Prayer and Study
DESCRIPTION:Weekly profound and participatory Study of Scriptures with Prayer.
URL:https://lw-sda.org/index.php/event/prayer-and-study-38/
CATEGORIES:In-Person
END:VEVENT
BEGIN:VEVENT
DTSTART;TZID=UTC:20251025T111500
DTEND;TZID=UTC:20251025T123000
DTSTAMP:20260424T191607
CREATED:20250112T044241Z
LAST-MODIFIED:20250112T044241Z
UID:185-1761390900-1761395400@lw-sda.org
SUMMARY:Worship Service
DESCRIPTION:“Come\, let us bow down in worship\, let us kneel before the Lord our Maker; for He is our God and we are the people of His pasture\, the flock under His care.”— Psalm 95:6-7 (NIV)
URL:https://lw-sda.org/index.php/event/worship-service-42/
CATEGORIES:In-Person
END:VEVENT
BEGIN:VEVENT
DTSTART;TZID=UTC:20251025T100000
DTEND;TZID=UTC:20251025T110000
DTSTAMP:20260424T191607
CREATED:20250112T044036Z
LAST-MODIFIED:20250112T044036Z
UID:134-1761386400-1761390000@lw-sda.org
SUMMARY:Sabbath School
DESCRIPTION:Join us for Sabbath School at The Living Word! Come explore God’s Word in small group studies\, and connect with a loving community every Saturday morning.
URL:https://lw-sda.org/index.php/event/sabbath-school-42/
CATEGORIES:In-Person
END:VEVENT
BEGIN:VEVENT
DTSTART;TZID=UTC:20251021T190000
DTEND;TZID=UTC:20251021T193000
DTSTAMP:20260424T191607
CREATED:20250112T044425Z
LAST-MODIFIED:20250112T044426Z
UID:282-1761073200-1761075000@lw-sda.org
SUMMARY:Prayer and Study
DESCRIPTION:Weekly profound and participatory Study of Scriptures with Prayer.
URL:https://lw-sda.org/index.php/event/prayer-and-study-37/
CATEGORIES:In-Person
END:VEVENT
BEGIN:VEVENT
DTSTART;TZID=UTC:20251018T111500
DTEND;TZID=UTC:20251018T123000
DTSTAMP:20260424T191607
CREATED:20250112T044241Z
LAST-MODIFIED:20250112T044241Z
UID:184-1760786100-1760790600@lw-sda.org
SUMMARY:Worship Service
DESCRIPTION:“Come\, let us bow down in worship\, let us kneel before the Lord our Maker; for He is our God and we are the people of His pasture\, the flock under His care.”— Psalm 95:6-7 (NIV)
URL:https://lw-sda.org/index.php/event/worship-service-41/
CATEGORIES:In-Person
END:VEVENT
BEGIN:VEVENT
DTSTART;TZID=UTC:20251018T100000
DTEND;TZID=UTC:20251018T110000
DTSTAMP:20260424T191607
CREATED:20250112T044036Z
LAST-MODIFIED:20250112T044036Z
UID:133-1760781600-1760785200@lw-sda.org
SUMMARY:Sabbath School
DESCRIPTION:Join us for Sabbath School at The Living Word! Come explore God’s Word in small group studies\, and connect with a loving community every Saturday morning.
URL:https://lw-sda.org/index.php/event/sabbath-school-41/
CATEGORIES:In-Person
END:VEVENT
BEGIN:VEVENT
DTSTART;TZID=UTC:20251014T190000
DTEND;TZID=UTC:20251014T193000
DTSTAMP:20260424T191607
CREATED:20250112T044424Z
LAST-MODIFIED:20250112T044425Z
UID:281-1760468400-1760470200@lw-sda.org
SUMMARY:Prayer and Study
DESCRIPTION:Weekly profound and participatory Study of Scriptures with Prayer.
URL:https://lw-sda.org/index.php/event/prayer-and-study-36/
CATEGORIES:In-Person
END:VEVENT
BEGIN:VEVENT
DTSTART;TZID=UTC:20251011T111500
DTEND;TZID=UTC:20251011T123000
DTSTAMP:20260424T191607
CREATED:20250112T044240Z
LAST-MODIFIED:20250112T044240Z
UID:183-1760181300-1760185800@lw-sda.org
SUMMARY:Worship Service
DESCRIPTION:“Come\, let us bow down in worship\, let us kneel before the Lord our Maker; for He is our God and we are the people of His pasture\, the flock under His care.”— Psalm 95:6-7 (NIV)
URL:https://lw-sda.org/index.php/event/worship-service-40/
CATEGORIES:In-Person
END:VEVENT
BEGIN:VEVENT
DTSTART;TZID=UTC:20251011T100000
DTEND;TZID=UTC:20251011T110000
DTSTAMP:20260424T191607
CREATED:20250112T044025Z
LAST-MODIFIED:20250112T044025Z
UID:130-1760176800-1760180400@lw-sda.org
SUMMARY:Sabbath School
DESCRIPTION:Join us for Sabbath School at The Living Word! Come explore God’s Word in small group studies\, and connect with a loving community every Saturday morning.
URL:https://lw-sda.org/index.php/event/sabbath-school-40/
CATEGORIES:In-Person
END:VEVENT
BEGIN:VEVENT
DTSTART;TZID=UTC:20251007T190000
DTEND;TZID=UTC:20251007T193000
DTSTAMP:20260424T191607
CREATED:20250112T044424Z
LAST-MODIFIED:20250112T044425Z
UID:280-1759863600-1759865400@lw-sda.org
SUMMARY:Prayer and Study
DESCRIPTION:Weekly profound and participatory Study of Scriptures with Prayer.
URL:https://lw-sda.org/index.php/event/prayer-and-study-35/
CATEGORIES:In-Person
END:VEVENT
BEGIN:VEVENT
DTSTART;TZID=UTC:20251004T111500
DTEND;TZID=UTC:20251004T123000
DTSTAMP:20260424T191607
CREATED:20250112T044236Z
LAST-MODIFIED:20250112T044236Z
UID:182-1759576500-1759581000@lw-sda.org
SUMMARY:Worship Service
DESCRIPTION:“Come\, let us bow down in worship\, let us kneel before the Lord our Maker; for He is our God and we are the people of His pasture\, the flock under His care.”— Psalm 95:6-7 (NIV)
URL:https://lw-sda.org/index.php/event/worship-service-39/
CATEGORIES:In-Person
END:VEVENT
BEGIN:VEVENT
DTSTART;TZID=UTC:20251004T100000
DTEND;TZID=UTC:20251004T110000
DTSTAMP:20260424T191607
CREATED:20250112T044025Z
LAST-MODIFIED:20250112T044025Z
UID:129-1759572000-1759575600@lw-sda.org
SUMMARY:Sabbath School
DESCRIPTION:Join us for Sabbath School at The Living Word! Come explore God’s Word in small group studies\, and connect with a loving community every Saturday morning.
URL:https://lw-sda.org/index.php/event/sabbath-school-39/
CATEGORIES:In-Person
END:VEVENT
BEGIN:VEVENT
DTSTART;TZID=UTC:20250930T190000
DTEND;TZID=UTC:20250930T193000
DTSTAMP:20260424T191607
CREATED:20250112T044424Z
LAST-MODIFIED:20250112T044425Z
UID:279-1759258800-1759260600@lw-sda.org
SUMMARY:Prayer and Study
DESCRIPTION:Weekly profound and participatory Study of Scriptures with Prayer.
URL:https://lw-sda.org/index.php/event/prayer-and-study-34/
CATEGORIES:In-Person
END:VEVENT
BEGIN:VEVENT
DTSTART;TZID=UTC:20250927T111500
DTEND;TZID=UTC:20250927T123000
DTSTAMP:20260424T191607
CREATED:20250112T044236Z
LAST-MODIFIED:20250112T044236Z
UID:181-1758971700-1758976200@lw-sda.org
SUMMARY:Worship Service
DESCRIPTION:“Come\, let us bow down in worship\, let us kneel before the Lord our Maker; for He is our God and we are the people of His pasture\, the flock under His care.”— Psalm 95:6-7 (NIV)
URL:https://lw-sda.org/index.php/event/worship-service-38/
CATEGORIES:In-Person
END:VEVENT
BEGIN:VEVENT
DTSTART;TZID=UTC:20250927T100000
DTEND;TZID=UTC:20250927T110000
DTSTAMP:20260424T191607
CREATED:20250112T044025Z
LAST-MODIFIED:20250112T044025Z
UID:128-1758967200-1758970800@lw-sda.org
SUMMARY:Sabbath School
DESCRIPTION:Join us for Sabbath School at The Living Word! Come explore God’s Word in small group studies\, and connect with a loving community every Saturday morning.
URL:https://lw-sda.org/index.php/event/sabbath-school-38/
CATEGORIES:In-Person
END:VEVENT
BEGIN:VEVENT
DTSTART;TZID=UTC:20250923T190000
DTEND;TZID=UTC:20250923T193000
DTSTAMP:20260424T191607
CREATED:20250112T044421Z
LAST-MODIFIED:20250112T044421Z
UID:278-1758654000-1758655800@lw-sda.org
SUMMARY:Prayer and Study
DESCRIPTION:Weekly profound and participatory Study of Scriptures with Prayer.
URL:https://lw-sda.org/index.php/event/prayer-and-study-33/
CATEGORIES:In-Person
END:VEVENT
BEGIN:VEVENT
DTSTART;TZID=UTC:20250920T111500
DTEND;TZID=UTC:20250920T123000
DTSTAMP:20260424T191607
CREATED:20250112T044236Z
LAST-MODIFIED:20250112T044236Z
UID:180-1758366900-1758371400@lw-sda.org
SUMMARY:Worship Service
DESCRIPTION:“Come\, let us bow down in worship\, let us kneel before the Lord our Maker; for He is our God and we are the people of His pasture\, the flock under His care.”— Psalm 95:6-7 (NIV)
URL:https://lw-sda.org/index.php/event/worship-service-37/
CATEGORIES:In-Person
END:VEVENT
BEGIN:VEVENT
DTSTART;TZID=UTC:20250920T100000
DTEND;TZID=UTC:20250920T110000
DTSTAMP:20260424T191607
CREATED:20250112T044025Z
LAST-MODIFIED:20250112T044025Z
UID:127-1758362400-1758366000@lw-sda.org
SUMMARY:Sabbath School
DESCRIPTION:Join us for Sabbath School at The Living Word! Come explore God’s Word in small group studies\, and connect with a loving community every Saturday morning.
URL:https://lw-sda.org/index.php/event/sabbath-school-37/
CATEGORIES:In-Person
END:VEVENT
BEGIN:VEVENT
DTSTART;TZID=UTC:20250916T190000
DTEND;TZID=UTC:20250916T193000
DTSTAMP:20260424T191607
CREATED:20250112T044421Z
LAST-MODIFIED:20250112T044421Z
UID:277-1758049200-1758051000@lw-sda.org
SUMMARY:Prayer and Study
DESCRIPTION:Weekly profound and participatory Study of Scriptures with Prayer.
URL:https://lw-sda.org/index.php/event/prayer-and-study-32/
CATEGORIES:In-Person
END:VEVENT
BEGIN:VEVENT
DTSTART;TZID=UTC:20250913T111500
DTEND;TZID=UTC:20250913T123000
DTSTAMP:20260424T191607
CREATED:20250112T044236Z
LAST-MODIFIED:20250112T044236Z
UID:179-1757762100-1757766600@lw-sda.org
SUMMARY:Worship Service
DESCRIPTION:“Come\, let us bow down in worship\, let us kneel before the Lord our Maker; for He is our God and we are the people of His pasture\, the flock under His care.”— Psalm 95:6-7 (NIV)
URL:https://lw-sda.org/index.php/event/worship-service-36/
CATEGORIES:In-Person
END:VEVENT
BEGIN:VEVENT
DTSTART;TZID=UTC:20250913T100000
DTEND;TZID=UTC:20250913T110000
DTSTAMP:20260424T191607
CREATED:20250112T044024Z
LAST-MODIFIED:20250112T044024Z
UID:126-1757757600-1757761200@lw-sda.org
SUMMARY:Sabbath School
DESCRIPTION:Join us for Sabbath School at The Living Word! Come explore God’s Word in small group studies\, and connect with a loving community every Saturday morning.
URL:https://lw-sda.org/index.php/event/sabbath-school-36/
CATEGORIES:In-Person
END:VEVENT
BEGIN:VEVENT
DTSTART;TZID=UTC:20250909T190000
DTEND;TZID=UTC:20250909T193000
DTSTAMP:20260424T191607
CREATED:20250112T044421Z
LAST-MODIFIED:20250112T044421Z
UID:276-1757444400-1757446200@lw-sda.org
SUMMARY:Prayer and Study
DESCRIPTION:Weekly profound and participatory Study of Scriptures with Prayer.
URL:https://lw-sda.org/index.php/event/prayer-and-study-31/
CATEGORIES:In-Person
END:VEVENT
BEGIN:VEVENT
DTSTART;TZID=UTC:20250906T111500
DTEND;TZID=UTC:20250906T123000
DTSTAMP:20260424T191607
CREATED:20250112T044235Z
LAST-MODIFIED:20250112T044235Z
UID:178-1757157300-1757161800@lw-sda.org
SUMMARY:Worship Service
DESCRIPTION:“Come\, let us bow down in worship\, let us kneel before the Lord our Maker; for He is our God and we are the people of His pasture\, the flock under His care.”— Psalm 95:6-7 (NIV)
URL:https://lw-sda.org/index.php/event/worship-service-35/
CATEGORIES:In-Person
END:VEVENT
END:VCALENDAR