BEGIN:VCALENDAR
VERSION:2.0
PRODID:-//Living Word - ECPv6.15.11//NONSGML v1.0//EN
CALSCALE:GREGORIAN
METHOD:PUBLISH
X-ORIGINAL-URL:https://lw-sda.org
X-WR-CALDESC:Events for Living Word
REFRESH-INTERVAL;VALUE=DURATION:PT1H
X-Robots-Tag:noindex
X-PUBLISHED-TTL:PT1H
BEGIN:VTIMEZONE
TZID:UTC
BEGIN:STANDARD
TZOFFSETFROM:+0000
TZOFFSETTO:+0000
TZNAME:UTC
DTSTART:20240101T000000
END:STANDARD
END:VTIMEZONE
BEGIN:VEVENT
DTSTART;TZID=UTC:20250906T100000
DTEND;TZID=UTC:20250906T110000
DTSTAMP:20260425T001010
CREATED:20250112T044011Z
LAST-MODIFIED:20250112T044011Z
UID:125-1757152800-1757156400@lw-sda.org
SUMMARY:Sabbath School
DESCRIPTION:Join us for Sabbath School at The Living Word! Come explore God’s Word in small group studies\, and connect with a loving community every Saturday morning.
URL:https://lw-sda.org/index.php/event/sabbath-school-35/
CATEGORIES:In-Person
END:VEVENT
BEGIN:VEVENT
DTSTART;TZID=UTC:20250902T190000
DTEND;TZID=UTC:20250902T193000
DTSTAMP:20260425T001010
CREATED:20250112T044421Z
LAST-MODIFIED:20250112T044421Z
UID:275-1756839600-1756841400@lw-sda.org
SUMMARY:Prayer and Study
DESCRIPTION:Weekly profound and participatory Study of Scriptures with Prayer.
URL:https://lw-sda.org/index.php/event/prayer-and-study-30/
CATEGORIES:In-Person
END:VEVENT
BEGIN:VEVENT
DTSTART;TZID=UTC:20250830T111500
DTEND;TZID=UTC:20250830T123000
DTSTAMP:20260425T001010
CREATED:20250112T044224Z
LAST-MODIFIED:20250112T044224Z
UID:177-1756552500-1756557000@lw-sda.org
SUMMARY:Worship Service
DESCRIPTION:“Come\, let us bow down in worship\, let us kneel before the Lord our Maker; for He is our God and we are the people of His pasture\, the flock under His care.”— Psalm 95:6-7 (NIV)
URL:https://lw-sda.org/index.php/event/worship-service-34/
CATEGORIES:In-Person
END:VEVENT
BEGIN:VEVENT
DTSTART;TZID=UTC:20250830T100000
DTEND;TZID=UTC:20250830T110000
DTSTAMP:20260425T001010
CREATED:20250112T044010Z
LAST-MODIFIED:20250112T044010Z
UID:124-1756548000-1756551600@lw-sda.org
SUMMARY:Sabbath School
DESCRIPTION:Join us for Sabbath School at The Living Word! Come explore God’s Word in small group studies\, and connect with a loving community every Saturday morning.
URL:https://lw-sda.org/index.php/event/sabbath-school-34/
CATEGORIES:In-Person
END:VEVENT
BEGIN:VEVENT
DTSTART;TZID=UTC:20250826T190000
DTEND;TZID=UTC:20250826T193000
DTSTAMP:20260425T001010
CREATED:20250112T044421Z
LAST-MODIFIED:20250112T044421Z
UID:274-1756234800-1756236600@lw-sda.org
SUMMARY:Prayer and Study
DESCRIPTION:Weekly profound and participatory Study of Scriptures with Prayer.
URL:https://lw-sda.org/index.php/event/prayer-and-study-29/
CATEGORIES:In-Person
END:VEVENT
BEGIN:VEVENT
DTSTART;TZID=UTC:20250823T111500
DTEND;TZID=UTC:20250823T123000
DTSTAMP:20260425T001010
CREATED:20250112T044224Z
LAST-MODIFIED:20250112T044224Z
UID:176-1755947700-1755952200@lw-sda.org
SUMMARY:Worship Service
DESCRIPTION:“Come\, let us bow down in worship\, let us kneel before the Lord our Maker; for He is our God and we are the people of His pasture\, the flock under His care.”— Psalm 95:6-7 (NIV)
URL:https://lw-sda.org/index.php/event/worship-service-33/
CATEGORIES:In-Person
END:VEVENT
BEGIN:VEVENT
DTSTART;TZID=UTC:20250823T100000
DTEND;TZID=UTC:20250823T110000
DTSTAMP:20260425T001010
CREATED:20250112T044010Z
LAST-MODIFIED:20250112T044010Z
UID:123-1755943200-1755946800@lw-sda.org
SUMMARY:Sabbath School
DESCRIPTION:Join us for Sabbath School at The Living Word! Come explore God’s Word in small group studies\, and connect with a loving community every Saturday morning.
URL:https://lw-sda.org/index.php/event/sabbath-school-33/
CATEGORIES:In-Person
END:VEVENT
BEGIN:VEVENT
DTSTART;TZID=UTC:20250819T190000
DTEND;TZID=UTC:20250819T193000
DTSTAMP:20260425T001010
CREATED:20250112T044415Z
LAST-MODIFIED:20250112T044415Z
UID:273-1755630000-1755631800@lw-sda.org
SUMMARY:Prayer and Study
DESCRIPTION:Weekly profound and participatory Study of Scriptures with Prayer.
URL:https://lw-sda.org/index.php/event/prayer-and-study-28/
CATEGORIES:In-Person
END:VEVENT
BEGIN:VEVENT
DTSTART;TZID=UTC:20250816T111500
DTEND;TZID=UTC:20250816T123000
DTSTAMP:20260425T001010
CREATED:20250112T044223Z
LAST-MODIFIED:20250112T044223Z
UID:175-1755342900-1755347400@lw-sda.org
SUMMARY:Worship Service
DESCRIPTION:“Come\, let us bow down in worship\, let us kneel before the Lord our Maker; for He is our God and we are the people of His pasture\, the flock under His care.”— Psalm 95:6-7 (NIV)
URL:https://lw-sda.org/index.php/event/worship-service-32/
CATEGORIES:In-Person
END:VEVENT
BEGIN:VEVENT
DTSTART;TZID=UTC:20250816T100000
DTEND;TZID=UTC:20250816T110000
DTSTAMP:20260425T001010
CREATED:20250112T044010Z
LAST-MODIFIED:20250112T044010Z
UID:122-1755338400-1755342000@lw-sda.org
SUMMARY:Sabbath School
DESCRIPTION:Join us for Sabbath School at The Living Word! Come explore God’s Word in small group studies\, and connect with a loving community every Saturday morning.
URL:https://lw-sda.org/index.php/event/sabbath-school-32/
CATEGORIES:In-Person
END:VEVENT
BEGIN:VEVENT
DTSTART;TZID=UTC:20250812T190000
DTEND;TZID=UTC:20250812T193000
DTSTAMP:20260425T001010
CREATED:20250112T044415Z
LAST-MODIFIED:20250112T044415Z
UID:272-1755025200-1755027000@lw-sda.org
SUMMARY:Prayer and Study
DESCRIPTION:Weekly profound and participatory Study of Scriptures with Prayer.
URL:https://lw-sda.org/index.php/event/prayer-and-study-27/
CATEGORIES:In-Person
END:VEVENT
BEGIN:VEVENT
DTSTART;TZID=UTC:20250809T111500
DTEND;TZID=UTC:20250809T123000
DTSTAMP:20260425T001010
CREATED:20250112T044223Z
LAST-MODIFIED:20250112T044223Z
UID:174-1754738100-1754742600@lw-sda.org
SUMMARY:Worship Service
DESCRIPTION:“Come\, let us bow down in worship\, let us kneel before the Lord our Maker; for He is our God and we are the people of His pasture\, the flock under His care.”— Psalm 95:6-7 (NIV)
URL:https://lw-sda.org/index.php/event/worship-service-31/
CATEGORIES:In-Person
END:VEVENT
BEGIN:VEVENT
DTSTART;TZID=UTC:20250809T100000
DTEND;TZID=UTC:20250809T110000
DTSTAMP:20260425T001010
CREATED:20250112T044010Z
LAST-MODIFIED:20250112T044010Z
UID:121-1754733600-1754737200@lw-sda.org
SUMMARY:Sabbath School
DESCRIPTION:Join us for Sabbath School at The Living Word! Come explore God’s Word in small group studies\, and connect with a loving community every Saturday morning.
URL:https://lw-sda.org/index.php/event/sabbath-school-31/
CATEGORIES:In-Person
END:VEVENT
BEGIN:VEVENT
DTSTART;TZID=UTC:20250805T190000
DTEND;TZID=UTC:20250805T193000
DTSTAMP:20260425T001010
CREATED:20250112T044414Z
LAST-MODIFIED:20250112T044414Z
UID:271-1754420400-1754422200@lw-sda.org
SUMMARY:Prayer and Study
DESCRIPTION:Weekly profound and participatory Study of Scriptures with Prayer.
URL:https://lw-sda.org/index.php/event/prayer-and-study-26/
CATEGORIES:In-Person
END:VEVENT
BEGIN:VEVENT
DTSTART;TZID=UTC:20250802T111500
DTEND;TZID=UTC:20250802T123000
DTSTAMP:20260425T001010
CREATED:20250112T044223Z
LAST-MODIFIED:20250112T044223Z
UID:173-1754133300-1754137800@lw-sda.org
SUMMARY:Worship Service
DESCRIPTION:“Come\, let us bow down in worship\, let us kneel before the Lord our Maker; for He is our God and we are the people of His pasture\, the flock under His care.”— Psalm 95:6-7 (NIV)
URL:https://lw-sda.org/index.php/event/worship-service-30/
CATEGORIES:In-Person
END:VEVENT
BEGIN:VEVENT
DTSTART;TZID=UTC:20250802T100000
DTEND;TZID=UTC:20250802T110000
DTSTAMP:20260425T001010
CREATED:20250112T043955Z
LAST-MODIFIED:20250112T043955Z
UID:120-1754128800-1754132400@lw-sda.org
SUMMARY:Sabbath School
DESCRIPTION:Join us for Sabbath School at The Living Word! Come explore God’s Word in small group studies\, and connect with a loving community every Saturday morning.
URL:https://lw-sda.org/index.php/event/sabbath-school-30/
CATEGORIES:In-Person
END:VEVENT
BEGIN:VEVENT
DTSTART;TZID=UTC:20250729T190000
DTEND;TZID=UTC:20250729T193000
DTSTAMP:20260425T001010
CREATED:20250112T044414Z
LAST-MODIFIED:20250112T044414Z
UID:270-1753815600-1753817400@lw-sda.org
SUMMARY:Prayer and Study
DESCRIPTION:Weekly profound and participatory Study of Scriptures with Prayer.
URL:https://lw-sda.org/index.php/event/prayer-and-study-25/
CATEGORIES:In-Person
END:VEVENT
BEGIN:VEVENT
DTSTART;TZID=UTC:20250726T111500
DTEND;TZID=UTC:20250726T123000
DTSTAMP:20260425T001010
CREATED:20250112T044219Z
LAST-MODIFIED:20250112T044219Z
UID:172-1753528500-1753533000@lw-sda.org
SUMMARY:Worship Service
DESCRIPTION:“Come\, let us bow down in worship\, let us kneel before the Lord our Maker; for He is our God and we are the people of His pasture\, the flock under His care.”— Psalm 95:6-7 (NIV)
URL:https://lw-sda.org/index.php/event/worship-service-29/
CATEGORIES:In-Person
END:VEVENT
BEGIN:VEVENT
DTSTART;TZID=UTC:20250726T100000
DTEND;TZID=UTC:20250726T110000
DTSTAMP:20260425T001010
CREATED:20250112T043955Z
LAST-MODIFIED:20250112T043955Z
UID:119-1753524000-1753527600@lw-sda.org
SUMMARY:Sabbath School
DESCRIPTION:Join us for Sabbath School at The Living Word! Come explore God’s Word in small group studies\, and connect with a loving community every Saturday morning.
URL:https://lw-sda.org/index.php/event/sabbath-school-29/
CATEGORIES:In-Person
END:VEVENT
BEGIN:VEVENT
DTSTART;TZID=UTC:20250722T190000
DTEND;TZID=UTC:20250722T193000
DTSTAMP:20260425T001010
CREATED:20250112T044414Z
LAST-MODIFIED:20250112T044414Z
UID:269-1753210800-1753212600@lw-sda.org
SUMMARY:Prayer and Study
DESCRIPTION:Weekly profound and participatory Study of Scriptures with Prayer.
URL:https://lw-sda.org/index.php/event/prayer-and-study-24/
CATEGORIES:In-Person
END:VEVENT
BEGIN:VEVENT
DTSTART;TZID=UTC:20250719T111500
DTEND;TZID=UTC:20250719T123000
DTSTAMP:20260425T001010
CREATED:20250112T044219Z
LAST-MODIFIED:20250112T044219Z
UID:171-1752923700-1752928200@lw-sda.org
SUMMARY:Worship Service
DESCRIPTION:“Come\, let us bow down in worship\, let us kneel before the Lord our Maker; for He is our God and we are the people of His pasture\, the flock under His care.”— Psalm 95:6-7 (NIV)
URL:https://lw-sda.org/index.php/event/worship-service-28/
CATEGORIES:In-Person
END:VEVENT
BEGIN:VEVENT
DTSTART;TZID=UTC:20250719T100000
DTEND;TZID=UTC:20250719T110000
DTSTAMP:20260425T001010
CREATED:20250112T043955Z
LAST-MODIFIED:20250112T043955Z
UID:118-1752919200-1752922800@lw-sda.org
SUMMARY:Sabbath School
DESCRIPTION:Join us for Sabbath School at The Living Word! Come explore God’s Word in small group studies\, and connect with a loving community every Saturday morning.
URL:https://lw-sda.org/index.php/event/sabbath-school-28/
CATEGORIES:In-Person
END:VEVENT
BEGIN:VEVENT
DTSTART;TZID=UTC:20250715T190000
DTEND;TZID=UTC:20250715T193000
DTSTAMP:20260425T001010
CREATED:20250112T044408Z
LAST-MODIFIED:20250112T044409Z
UID:263-1752606000-1752607800@lw-sda.org
SUMMARY:Prayer and Study
DESCRIPTION:Weekly profound and participatory Study of Scriptures with Prayer.
URL:https://lw-sda.org/index.php/event/prayer-and-study-23/
CATEGORIES:In-Person
END:VEVENT
BEGIN:VEVENT
DTSTART;TZID=UTC:20250712T111500
DTEND;TZID=UTC:20250712T123000
DTSTAMP:20260425T001010
CREATED:20250112T044219Z
LAST-MODIFIED:20250112T044219Z
UID:170-1752318900-1752323400@lw-sda.org
SUMMARY:Worship Service
DESCRIPTION:“Come\, let us bow down in worship\, let us kneel before the Lord our Maker; for He is our God and we are the people of His pasture\, the flock under His care.”— Psalm 95:6-7 (NIV)
URL:https://lw-sda.org/index.php/event/worship-service-27/
CATEGORIES:In-Person
END:VEVENT
BEGIN:VEVENT
DTSTART;TZID=UTC:20250712T100000
DTEND;TZID=UTC:20250712T110000
DTSTAMP:20260425T001010
CREATED:20250112T043955Z
LAST-MODIFIED:20250112T043955Z
UID:117-1752314400-1752318000@lw-sda.org
SUMMARY:Sabbath School
DESCRIPTION:Join us for Sabbath School at The Living Word! Come explore God’s Word in small group studies\, and connect with a loving community every Saturday morning.
URL:https://lw-sda.org/index.php/event/sabbath-school-27/
CATEGORIES:In-Person
END:VEVENT
BEGIN:VEVENT
DTSTART;TZID=UTC:20250708T190000
DTEND;TZID=UTC:20250708T193000
DTSTAMP:20260425T001010
CREATED:20250112T044408Z
LAST-MODIFIED:20250112T044409Z
UID:262-1752001200-1752003000@lw-sda.org
SUMMARY:Prayer and Study
DESCRIPTION:Weekly profound and participatory Study of Scriptures with Prayer.
URL:https://lw-sda.org/index.php/event/prayer-and-study-22/
CATEGORIES:In-Person
END:VEVENT
BEGIN:VEVENT
DTSTART;TZID=UTC:20250705T111500
DTEND;TZID=UTC:20250705T123000
DTSTAMP:20260425T001010
CREATED:20250112T044219Z
LAST-MODIFIED:20250112T044219Z
UID:169-1751714100-1751718600@lw-sda.org
SUMMARY:Worship Service
DESCRIPTION:“Come\, let us bow down in worship\, let us kneel before the Lord our Maker; for He is our God and we are the people of His pasture\, the flock under His care.”— Psalm 95:6-7 (NIV)
URL:https://lw-sda.org/index.php/event/worship-service-26/
CATEGORIES:In-Person
END:VEVENT
BEGIN:VEVENT
DTSTART;TZID=UTC:20250705T100000
DTEND;TZID=UTC:20250705T110000
DTSTAMP:20260425T001010
CREATED:20250112T043954Z
LAST-MODIFIED:20250112T043954Z
UID:116-1751709600-1751713200@lw-sda.org
SUMMARY:Sabbath School
DESCRIPTION:Join us for Sabbath School at The Living Word! Come explore God’s Word in small group studies\, and connect with a loving community every Saturday morning.
URL:https://lw-sda.org/index.php/event/sabbath-school-26/
CATEGORIES:In-Person
END:VEVENT
BEGIN:VEVENT
DTSTART;TZID=UTC:20250701T190000
DTEND;TZID=UTC:20250701T193000
DTSTAMP:20260425T001010
CREATED:20250112T044408Z
LAST-MODIFIED:20250112T044409Z
UID:261-1751396400-1751398200@lw-sda.org
SUMMARY:Prayer and Study
DESCRIPTION:Weekly profound and participatory Study of Scriptures with Prayer.
URL:https://lw-sda.org/index.php/event/prayer-and-study-21/
CATEGORIES:In-Person
END:VEVENT
BEGIN:VEVENT
DTSTART;TZID=UTC:20250628T111500
DTEND;TZID=UTC:20250628T123000
DTSTAMP:20260425T001010
CREATED:20250112T044218Z
LAST-MODIFIED:20250112T044218Z
UID:168-1751109300-1751113800@lw-sda.org
SUMMARY:Worship Service
DESCRIPTION:“Come\, let us bow down in worship\, let us kneel before the Lord our Maker; for He is our God and we are the people of His pasture\, the flock under His care.”— Psalm 95:6-7 (NIV)
URL:https://lw-sda.org/index.php/event/worship-service-25/
CATEGORIES:In-Person
END:VEVENT
END:VCALENDAR